BEGIN:VCALENDAR
VERSION:2.0
PRODID:-//South Windsor Skating Club - ECPv4.9.3.1//NONSGML v1.0//EN
CALSCALE:GREGORIAN
METHOD:PUBLISH
X-WR-CALNAME:South Windsor Skating Club
X-ORIGINAL-URL:https://swskatingclub.ca
X-WR-CALDESC:Events for South Windsor Skating Club
BEGIN:VEVENT
DTSTART;TZID=UTC+0:20210919T164500
DTEND;TZID=UTC+0:20210919T201500
DTSTAMP:20260420T005043
CREATED:20210829T165535Z
LAST-MODIFIED:20210829T165535Z
UID:1605-1632069900-1632082500@swskatingclub.ca
SUMMARY:Sunday September 19 Schedule
DESCRIPTION:4:55-6:15 PA Training \n6:25-7:15 Star 1-4 \n7:25-8:15 Star 5-Gold \n
URL:https://swskatingclub.ca/event/sunday-september-19-schedule/
CATEGORIES:StarSkate Schedule
END:VEVENT
END:VCALENDAR