BEGIN:VCALENDAR
VERSION:2.0
PRODID:-//South Windsor Skating Club - ECPv4.9.3.1//NONSGML v1.0//EN
CALSCALE:GREGORIAN
METHOD:PUBLISH
X-WR-CALNAME:South Windsor Skating Club
X-ORIGINAL-URL:https://swskatingclub.ca
X-WR-CALDESC:Events for South Windsor Skating Club
BEGIN:VEVENT
DTSTART;TZID=UTC+0:20240908T190000
DTEND;TZID=UTC+0:20240908T210000
DTSTAMP:20260421T192002
CREATED:20240822T123017Z
LAST-MODIFIED:20240822T123017Z
UID:3830-1725822000-1725829200@swskatingclub.ca
SUMMARY:Sunday\, September 8th Schedule
DESCRIPTION:**7:10-8:00 Star 1-3** \n**8:00-9:00 Star 4-Gold** \n
URL:https://swskatingclub.ca/event/sunday-september-8th-schedule/
CATEGORIES:StarSkate Schedule
END:VEVENT
END:VCALENDAR