BEGIN:VCALENDAR
VERSION:2.0
PRODID:-//South Windsor Skating Club - ECPv4.9.3.1//NONSGML v1.0//EN
CALSCALE:GREGORIAN
METHOD:PUBLISH
X-WR-CALNAME:South Windsor Skating Club
X-ORIGINAL-URL:https://swskatingclub.ca
X-WR-CALDESC:Events for South Windsor Skating Club
BEGIN:VEVENT
DTSTART;TZID=UTC+0:20220113T161500
DTEND;TZID=UTC+0:20220113T211500
DTSTAMP:20260419T191917
CREATED:20210830T202729Z
LAST-MODIFIED:20210830T202729Z
UID:1805-1642090500-1642108500@swskatingclub.ca
SUMMARY:Thursday January 13 Schedule
DESCRIPTION:4:25-5:45 Star 7-Gold \n5:55-6:45 Star 1-3 \n6:55-8:15 Star 4-6 \n8:25-9:15 Adult Learn to Skate \n
URL:https://swskatingclub.ca/event/thursday-january-13-schedule/
CATEGORIES:AdultSkate Schedule,StarSkate Schedule
END:VEVENT
END:VCALENDAR