BEGIN:VCALENDAR
VERSION:2.0
PRODID:-//South Windsor Skating Club - ECPv4.9.3.1//NONSGML v1.0//EN
CALSCALE:GREGORIAN
METHOD:PUBLISH
X-WR-CALNAME:South Windsor Skating Club
X-ORIGINAL-URL:https://swskatingclub.ca
X-WR-CALDESC:Events for South Windsor Skating Club
BEGIN:VEVENT
DTSTART;VALUE=DATE:20260101
DTEND;VALUE=DATE:20260102
DTSTAMP:20260415T004125
CREATED:20250814T235539Z
LAST-MODIFIED:20250814T235539Z
UID:4786-1767225600-1767311999@swskatingclub.ca
SUMMARY:Thursday\, January 1st No Skating
DESCRIPTION:**No skating for all programs** \n
URL:https://swskatingclub.ca/event/thursday-january-1st-no-skating/
CATEGORIES:StarSkate Schedule
END:VEVENT
END:VCALENDAR