BEGIN:VCALENDAR
VERSION:2.0
PRODID:-//South Windsor Skating Club - ECPv4.9.3.1//NONSGML v1.0//EN
CALSCALE:GREGORIAN
METHOD:PUBLISH
X-WR-CALNAME:South Windsor Skating Club
X-ORIGINAL-URL:https://swskatingclub.ca
X-WR-CALDESC:Events for South Windsor Skating Club
BEGIN:VEVENT
DTSTART;VALUE=DATE:20250327
DTEND;VALUE=DATE:20250328
DTSTAMP:20260421T162423
CREATED:20240823T021338Z
LAST-MODIFIED:20240823T021338Z
UID:4130-1743033600-1743119999@swskatingclub.ca
SUMMARY:Thursday\, March 27th - No Skating
DESCRIPTION:**No Skating Today** \n
URL:https://swskatingclub.ca/event/thursday-march-27th-no-skating/
CATEGORIES:AdultSkate Schedule,PowerSkate Schedule,StarSkate Schedule
END:VEVENT
END:VCALENDAR