BEGIN:VCALENDAR
VERSION:2.0
PRODID:-//South Windsor Skating Club - ECPv4.9.3.1//NONSGML v1.0//EN
CALSCALE:GREGORIAN
METHOD:PUBLISH
X-WR-CALNAME:South Windsor Skating Club
X-ORIGINAL-URL:https://swskatingclub.ca
X-WR-CALDESC:Events for South Windsor Skating Club
BEGIN:VEVENT
DTSTART;TZID=UTC+0:20210923T161500
DTEND;TZID=UTC+0:20210923T201500
DTSTAMP:20260420T004736
CREATED:20210829T170036Z
LAST-MODIFIED:20210829T170036Z
UID:1613-1632413700-1632428100@swskatingclub.ca
SUMMARY:Thursday September 23 Schedule
DESCRIPTION:4:25-5:45 Star 7-Gold \n5:55-6:45 Star 1-3 \n6:55-8:15 Star 4-6 \n
URL:https://swskatingclub.ca/event/thursday-september-23-schedule/
CATEGORIES:StarSkate Schedule
END:VEVENT
END:VCALENDAR