BEGIN:VCALENDAR
VERSION:2.0
PRODID:-//South Windsor Skating Club - ECPv4.9.3.1//NONSGML v1.0//EN
CALSCALE:GREGORIAN
METHOD:PUBLISH
X-WR-CALNAME:South Windsor Skating Club
X-ORIGINAL-URL:https://swskatingclub.ca
X-WR-CALDESC:Events for South Windsor Skating Club
BEGIN:VEVENT
DTSTART;VALUE=DATE:20241224
DTEND;VALUE=DATE:20241225
DTSTAMP:20260415T110324
CREATED:20240822T215554Z
LAST-MODIFIED:20240822T215554Z
UID:3983-1734998400-1735084799@swskatingclub.ca
SUMMARY:Tuesday\, December 24th - No Skating
DESCRIPTION:**No Skating Today** \n
URL:https://swskatingclub.ca/event/tuesday-december-24th-no-skating/
CATEGORIES:StarSkate Schedule
END:VEVENT
END:VCALENDAR