BEGIN:VCALENDAR
VERSION:2.0
PRODID:-//South Windsor Skating Club - ECPv4.9.3.1//NONSGML v1.0//EN
CALSCALE:GREGORIAN
METHOD:PUBLISH
X-WR-CALNAME:South Windsor Skating Club
X-ORIGINAL-URL:https://swskatingclub.ca
X-WR-CALDESC:Events for South Windsor Skating Club
BEGIN:VEVENT
DTSTART;TZID=UTC+0:20260127T162500
DTEND;TZID=UTC+0:20260127T210000
DTSTAMP:20260413T154246
CREATED:20250814T200139Z
LAST-MODIFIED:20250814T200139Z
UID:4676-1769531100-1769547600@swskatingclub.ca
SUMMARY:Tuesday\, January 27th Schedule
DESCRIPTION:**4:25-5:25 Star 4-Gold + StarAdults** \n**5:25-6:15 Star 1-4** \n**6:40-7:30 Star 5-Gold** \n**7:40-9:00 Star 7-Gold** \n**Off-Ice 5:50-6:20 Star 5-Gold** \n**Off-Ice 6:30-7:00 Star 1-4** \n
URL:https://swskatingclub.ca/event/tuesday-january-27th-schedule/
CATEGORIES:StarSkate Schedule
END:VEVENT
END:VCALENDAR