BEGIN:VCALENDAR
VERSION:2.0
PRODID:-//South Windsor Skating Club - ECPv4.9.3.1//NONSGML v1.0//EN
CALSCALE:GREGORIAN
METHOD:PUBLISH
X-WR-CALNAME:South Windsor Skating Club
X-ORIGINAL-URL:https://swskatingclub.ca
X-WR-CALDESC:Events for South Windsor Skating Club
BEGIN:VEVENT
DTSTART;TZID=UTC+0:20250325T163000
DTEND;TZID=UTC+0:20250325T200000
DTSTAMP:20260415T153335
CREATED:20240822T220704Z
LAST-MODIFIED:20250223T003007Z
UID:4009-1742920200-1742932800@swskatingclub.ca
SUMMARY:Tuesday\, March 25th - Make up skate for February 20th
DESCRIPTION:Make up skate for February 20th \n**4:40-5:30 Star 1-3** \n**5:40-7:00 Star 7-Gold** \n**7:10-8:00 Star 4-Gold** \n
URL:https://swskatingclub.ca/event/tuesday-march-25th-no-skating/
CATEGORIES:StarSkate Schedule
END:VEVENT
END:VCALENDAR