BEGIN:VCALENDAR
VERSION:2.0
PRODID:-//South Windsor Skating Club - ECPv4.9.3.1//NONSGML v1.0//EN
CALSCALE:GREGORIAN
METHOD:PUBLISH
X-WR-CALNAME:South Windsor Skating Club
X-ORIGINAL-URL:https://swskatingclub.ca
X-WR-CALDESC:Events for South Windsor Skating Club
BEGIN:VEVENT
DTSTART;TZID=UTC+0:20211123T161500
DTEND;TZID=UTC+0:20211123T211500
DTSTAMP:20260419T220533
CREATED:20210830T012150Z
LAST-MODIFIED:20210830T012150Z
UID:1717-1637684100-1637702100@swskatingclub.ca
SUMMARY:Tuesday November 23 Schedule
DESCRIPTION:4:25-5:25 Star 4-Gold \n5:25-6:15 Star 1-3 \n6:25-7:45 Star 4-6 \n7:55-9:15 Star 7-Gold \n
URL:https://swskatingclub.ca/event/tuesday-november-23-schedule/
CATEGORIES:StarSkate Schedule
END:VEVENT
END:VCALENDAR