BEGIN:VCALENDAR
VERSION:2.0
PRODID:-//South Windsor Skating Club - ECPv4.9.3.1//NONSGML v1.0//EN
CALSCALE:GREGORIAN
METHOD:PUBLISH
X-WR-CALNAME:South Windsor Skating Club
X-ORIGINAL-URL:https://swskatingclub.ca
X-WR-CALDESC:Events for South Windsor Skating Club
BEGIN:VEVENT
DTSTART;TZID=UTC+0:20241001T163000
DTEND;TZID=UTC+0:20241001T210000
DTSTAMP:20260422T022459
CREATED:20240822T214532Z
LAST-MODIFIED:20240822T214532Z
UID:3959-1727800200-1727816400@swskatingclub.ca
SUMMARY:Tuesday\, October 1st Schedule
DESCRIPTION:**4:40-5:50 Star 5-Gold** \n**6:00-6:50 Star 1-2** \n**6:50-7:50 Star 3-6** \n**8:00-9:00 Star 7-Gold** \n**5:15-5:45 Star 1-2 Off-Ice** \n**6:00-6:30 Star 3-Gold Off-Ice** \n
URL:https://swskatingclub.ca/event/tuesday-october-1st-schedule/
CATEGORIES:StarSkate Schedule
END:VEVENT
END:VCALENDAR