BEGIN:VCALENDAR
VERSION:2.0
PRODID:-//South Windsor Skating Club - ECPv4.9.3.1//NONSGML v1.0//EN
CALSCALE:GREGORIAN
METHOD:PUBLISH
X-WR-CALNAME:South Windsor Skating Club
X-ORIGINAL-URL:https://swskatingclub.ca
X-WR-CALDESC:Events for South Windsor Skating Club
BEGIN:VEVENT
DTSTART;TZID=UTC+0:20210921T161500
DTEND;TZID=UTC+0:20210921T211500
DTSTAMP:20260418T114247
CREATED:20210829T165809Z
LAST-MODIFIED:20210829T165809Z
UID:1609-1632240900-1632258900@swskatingclub.ca
SUMMARY:Tuesday September 21 Schedule
DESCRIPTION:4:25-5:25 Star 4-Gold \n5:25-6:15 Star 1-3 \n6:25-7:45 Star 4-6 \n7:55-9:15 Star 7-Gold \n
URL:https://swskatingclub.ca/event/tuesday-september-21-schedule/
CATEGORIES:StarSkate Schedule
END:VEVENT
END:VCALENDAR