BEGIN:VCALENDAR
VERSION:2.0
PRODID:-//South Windsor Skating Club - ECPv4.9.3.1//NONSGML v1.0//EN
CALSCALE:GREGORIAN
METHOD:PUBLISH
X-WR-CALNAME:South Windsor Skating Club
X-ORIGINAL-URL:https://swskatingclub.ca
X-WR-CALDESC:Events for South Windsor Skating Club
BEGIN:VEVENT
DTSTART;TZID=UTC+0:20250416T160000
DTEND;TZID=UTC+0:20250416T213000
DTSTAMP:20260421T190933
CREATED:20250210T001509Z
LAST-MODIFIED:20250210T001509Z
UID:4274-1744819200-1744839000@swskatingclub.ca
SUMMARY:Wednesday\, April 16th Schedule
DESCRIPTION:**4:10-5:20 Star 7-Gold** \n**5:20-6:10 Star 1-3** \n**6:20-7:30 Star 4-Gold** \n**7:40-8:30 PowerSkate Age 6+** \n**8:40-9:30 Teen & Adult Learn to Skate** \n
URL:https://swskatingclub.ca/event/wednesday-april-16th-schedule/
CATEGORIES:AdultSkate Schedule,PowerSkate Schedule,StarSkate Schedule
END:VEVENT
END:VCALENDAR