BEGIN:VCALENDAR
VERSION:2.0
PRODID:-//South Windsor Skating Club - ECPv4.9.3.1//NONSGML v1.0//EN
CALSCALE:GREGORIAN
METHOD:PUBLISH
X-WR-CALNAME:South Windsor Skating Club
X-ORIGINAL-URL:https://swskatingclub.ca
X-WR-CALDESC:Events for South Windsor Skating Club
BEGIN:VEVENT
DTSTART;TZID=UTC+0:20241218T163000
DTEND;TZID=UTC+0:20241218T200000
DTSTAMP:20260418T104254
CREATED:20240822T222247Z
LAST-MODIFIED:20240822T222247Z
UID:4041-1734539400-1734552000@swskatingclub.ca
SUMMARY:Wednesday\, December 18th Schedule
DESCRIPTION:**4:40-6:00 Star 7-Gold** \n**6:10-7:00 Star 1-3** \n**7:00-8:00 Star 4-6** \n  \n
URL:https://swskatingclub.ca/event/wednesday-december-18th-schedule/
CATEGORIES:StarSkate Schedule
END:VEVENT
END:VCALENDAR