BEGIN:VCALENDAR
VERSION:2.0
PRODID:-//South Windsor Skating Club - ECPv4.9.3.1//NONSGML v1.0//EN
CALSCALE:GREGORIAN
METHOD:PUBLISH
X-WR-CALNAME:South Windsor Skating Club
X-ORIGINAL-URL:https://swskatingclub.ca
X-WR-CALDESC:Events for South Windsor Skating Club
BEGIN:VEVENT
DTSTART;TZID=UTC+0:20260121T155500
DTEND;TZID=UTC+0:20260121T220000
DTSTAMP:20260413T154531
CREATED:20250814T232441Z
LAST-MODIFIED:20250814T232441Z
UID:4733-1769010900-1769032800@swskatingclub.ca
SUMMARY:Wednesday\, January 21st Schedule
DESCRIPTION:**3:55-5:20 Star 5-Gold** \n**5:20-6:15 Star 1-4 Group** \n**6:25-7:15 PowerSkate Age 8+** \n**7:25-8:15 Teen & Adult Learn to Skate** \n**6:40-8:00 Star 7-Gold** \n**8:10-9:10 Star 6-Gold** \n**9:10-10:00 StarAdults Star 2-Gold** \n
URL:https://swskatingclub.ca/event/wednesday-january-21st-schedule/
CATEGORIES:AdultSkate Schedule,PowerSkate Schedule,StarSkate Schedule
END:VEVENT
END:VCALENDAR