BEGIN:VCALENDAR
VERSION:2.0
PRODID:-//South Windsor Skating Club - ECPv4.9.3.1//NONSGML v1.0//EN
CALSCALE:GREGORIAN
METHOD:PUBLISH
X-WR-CALNAME:South Windsor Skating Club
X-ORIGINAL-URL:https://swskatingclub.ca
X-WR-CALDESC:Events for South Windsor Skating Club
BEGIN:VEVENT
DTSTART;TZID=UTC+0:20210929T151500
DTEND;TZID=UTC+0:20210929T171500
DTSTAMP:20260419T232743
CREATED:20210829T170733Z
LAST-MODIFIED:20210829T170733Z
UID:1623-1632928500-1632935700@swskatingclub.ca
SUMMARY:Wednesday September 29 Schedule
DESCRIPTION:3:25-4:25 Star 7-Gold \n4:25-5:15 Star 4-Gold \n
URL:https://swskatingclub.ca/event/wednesday-september-29-schedule/
CATEGORIES:StarSkate Schedule
END:VEVENT
END:VCALENDAR