BEGIN:VCALENDAR
VERSION:2.0
PRODID:-//South Windsor Skating Club - ECPv4.9.3.1//NONSGML v1.0//EN
CALSCALE:GREGORIAN
METHOD:PUBLISH
X-WR-CALNAME:South Windsor Skating Club
X-ORIGINAL-URL:https://swskatingclub.ca
X-WR-CALDESC:Events for South Windsor Skating Club
BEGIN:VEVENT
DTSTART;TZID=UTC+0:20240904T163000
DTEND;TZID=UTC+0:20240904T200000
DTSTAMP:20260421T203144
CREATED:20240822T220900Z
LAST-MODIFIED:20240822T220900Z
UID:4011-1725467400-1725480000@swskatingclub.ca
SUMMARY:Wednesday\, September 4th Schedule
DESCRIPTION:**4:40-6:00 Star 7-Gold** \n**6:10-7:00 Star 1-3** \n**7:00-8:00 Star 4-6** \n
URL:https://swskatingclub.ca/event/wednesday-september-4th-schedule/
CATEGORIES:StarSkate Schedule
END:VEVENT
END:VCALENDAR